BEGIN:VCALENDAR
PRODID:-//eluceo/ical//2.0/EN
VERSION:2.0
CALSCALE:GREGORIAN
BEGIN:VEVENT
UID:9534b436c23bef6aff80e11ddaea8ed1
DTSTAMP:20260421T204333Z
SUMMARY:19 Kislev Program at Anshe Sfard
DESCRIPTION:Shaw JCC of Akron\nCalendar\nhttps://shawjcc.org/calendar/19-ki
 slev-program-at-anshe-sfard-1529422619-274740\n\nHolding Sorrow & Joy on t
 he Road to Growth & Healing\n\nThe topic for the evening has been carefull
 y selected with community input to connect to the many events that we have
  faced individually\, as families\, and collectively as a community. Life 
 is not black and white! We can experience sorrow and joy at the same time.
  We look forward to this gathering providing us an opportunity to reflect\
 , give and receive support\, gain understanding and perspective\, strength
 en\, connect with others\, heal and...
DTSTART;TZID=America/New_York:20181127T173000
DTEND;TZID=America/New_York:20181127T203000
END:VEVENT
END:VCALENDAR
