BEGIN:VCALENDAR
PRODID:-//eluceo/ical//2.0/EN
VERSION:2.0
CALSCALE:GREGORIAN
BEGIN:VEVENT
UID:19c26d76cbbc1da632a004151bfec4df
DTSTAMP:20260420T151047Z
SUMMARY:19 Kislev Program at Anshe Sfard
DESCRIPTION:Shaw JCC of Akron\nCalendar\nhttps://shawjcc.org/calendar/19-ki
 slev-program-at-anshe-sfard-1561567928-315856\n\n19 Kislev Women's Chavura
 h Program at Anshe Sfard
DTSTART;TZID=America/New_York:20191215T173000
DTEND;TZID=America/New_York:20191215T193000
END:VEVENT
END:VCALENDAR
