BEGIN:VCALENDAR
PRODID:-//eluceo/ical//2.0/EN
VERSION:2.0
CALSCALE:GREGORIAN
BEGIN:VEVENT
UID:e46317cf0eba937566adf7bc5ca162a9
DTSTAMP:20260422T044527Z
SUMMARY:19th Kislev Women's Chavurah Anshe Sfard
DESCRIPTION:Shaw JCC of Akron\nCalendar\nhttps://shawjcc.org/calendar/19th-
 kislev-womens-chavurah-anshe-sfard-1501079909-240286\n\n19th Kislev Progra
 m
DTSTART;TZID=America/New_York:20171210T183000
DTEND;TZID=America/New_York:20171210T203000
END:VEVENT
END:VCALENDAR
