BEGIN:VCALENDAR
PRODID:-//eluceo/ical//2.0/EN
VERSION:2.0
CALSCALE:GREGORIAN
BEGIN:VEVENT
UID:904f7060c8f8a4cc39191d2a564fe13d
DTSTAMP:20260421T210310Z
SUMMARY:Women's Chavurah Program at Anshe Sfard
DESCRIPTION:Shaw JCC of Akron\nCalendar\nhttps://shawjcc.org/calendar/19th-
 of-kislev-womens-chavurah-program-1663163200-417850\n\n19th of Kislev Wome
 n's community program
DTSTART;TZID=America/New_York:20221211T180000
DTEND;TZID=America/New_York:20221211T200000
END:VEVENT
END:VCALENDAR
