BEGIN:VCALENDAR
PRODID:-//eluceo/ical//2.0/EN
VERSION:2.0
CALSCALE:GREGORIAN
BEGIN:VEVENT
UID:b1c41050efdf22e0881e4cd24819e132
DTSTAMP:20260422T150105Z
SUMMARY:1st Night Community Seder at Anshe Sfard
DESCRIPTION:Shaw JCC of Akron\nCalendar\nhttps://shawjcc.org/calendar/1st-n
 ight-community-seder-at-anshe-sfard-1761318165-503550\n\nPassover Seder
DTSTART;TZID=America/New_York:20260401T190000
DTEND;TZID=America/New_York:20260401T230000
END:VEVENT
END:VCALENDAR
