BEGIN:VCALENDAR
PRODID:-//eluceo/ical//2.0/EN
VERSION:2.0
CALSCALE:GREGORIAN
BEGIN:VEVENT
UID:5637fff6e3e72eaa0ba7651365b323fc
DTSTAMP:20260420T134534Z
SUMMARY:1st Night Seder at Anshe Sfard
DESCRIPTION:Shaw JCC of Akron\nCalendar\nhttps://shawjcc.org/calendar/1st-n
 ight-seder-at-anshe-sfard-1561569248-315865\n\n1st Night Community Seder a
 t Anshe Sfard
DTSTART;TZID=America/New_York:20200408T183000
DTEND;TZID=America/New_York:20200408T203000
END:VEVENT
END:VCALENDAR
