BEGIN:VCALENDAR
PRODID:-//eluceo/ical//2.0/EN
VERSION:2.0
CALSCALE:GREGORIAN
BEGIN:VEVENT
UID:9061b1ef9af319da6eb8696f90967db1
DTSTAMP:20260423T073439Z
SUMMARY:1st Night Seder at Anshe Sfard
DESCRIPTION:Shaw JCC of Akron\nCalendar\nhttps://shawjcc.org/calendar/1st-n
 ight-seder-at-anshe-sfard-1594922633-358362\n\n1st Night Passover Seder at
  Anshe Sfard
DTSTART;TZID=America/New_York:20210327T183000
DTEND;TZID=America/New_York:20210327T203000
END:VEVENT
END:VCALENDAR
