BEGIN:VCALENDAR
PRODID:-//eluceo/ical//2.0/EN
VERSION:2.0
CALSCALE:GREGORIAN
BEGIN:VEVENT
UID:00b905fd54ecb3f45c811ef3724875b6
DTSTAMP:20260420T220258Z
SUMMARY:2nd Annual Give Not Get
DESCRIPTION:Shaw JCC of Akron\nCalendar\nhttps://shawjcc.org/calendar/2nd-a
 nnual-give-not-get-1540311933-290451\n\nJoin us at Temple Israel as the yo
 uth host a Chanukkah party for our grandparents and surrogate grandparents
 . There'll be festive foods\, an oral history station\, and lots of time t
 o social and celebrate. Our friends from Anshe Sfard and Beth El are co-ho
 ts. Please contact lauren.trexler@templeisraelakron.org for more informati
 on.
DTSTART;TZID=America/New_York:20181202T110000
DTEND;TZID=America/New_York:20181202T120000
END:VEVENT
END:VCALENDAR
