BEGIN:VCALENDAR
PRODID:-//eluceo/ical//2.0/EN
VERSION:2.0
CALSCALE:GREGORIAN
BEGIN:VEVENT
UID:cc16266eaf57c8409af2f1718b6f897b
DTSTAMP:20260422T104052Z
SUMMARY:Lippman Board Meeting
DESCRIPTION:Shaw JCC of Akron\nCalendar\nhttps://shawjcc.org/calendar/Febru
 ary-meeting-311024\n\nLippman Executive Board Meeting\n\nWoll Family Cente
 r for Innovation \n\nTime: 5:45 - 7:00 PM
DTSTART;TZID=America/New_York:20200224T174500
DTEND;TZID=America/New_York:20200224T190000
END:VEVENT
END:VCALENDAR
