BEGIN:VCALENDAR
PRODID:-//eluceo/ical//2.0/EN
VERSION:2.0
CALSCALE:GREGORIAN
BEGIN:VEVENT
UID:a76312ac8d432e5d25211a6ce220ceea
DTSTAMP:20260421T172602Z
SUMMARY:Jewish Leadership Council Meeting
DESCRIPTION:Shaw JCC of Akron\nCalendar\nhttps://shawjcc.org/calendar/JALC-
 meeting-Aug2018-283634\n\nMeeting
DTSTART;TZID=America/New_York:20180821T120000
DTEND;TZID=America/New_York:20180821T130000
END:VEVENT
END:VCALENDAR
