BEGIN:VCALENDAR
PRODID:-//eluceo/ical//2.0/EN
VERSION:2.0
CALSCALE:GREGORIAN
BEGIN:VEVENT
UID:2cd2c82a426dc618101face120ca98c9
DTSTAMP:20260420T061624Z
SUMMARY:Jewish American Writing - Selected Stories through Time - Part II
DESCRIPTION:Shaw JCC of Akron\nCalendar\nhttps://shawjcc.org/calendar/Jewis
 hAmericanWriting-304292\n\nJewish American Writing - Selected Stories thro
 ugh Time - Part II is the  Spring  class of Encountering Jewish Culture
  through Stories\, Poetry & Art: 2019 series. Esther Hexter\, award winni
 ng Jewish educator\, will guide seniors and friends in lively discussion a
 nd exploration of selections of Jewish American Writing from 350 years. N
 o experience is required\, just the desire to learn.\n\nClass will meet si
 x Wednesdays in a row– April 24\, May 1\, 8\, 15\, 22 & 29\, 2019 from 
 11:15 a.m. to 1...
DTSTART;TZID=America/New_York:20190424T111500
DTEND;TZID=America/New_York:20190424T124500
END:VEVENT
END:VCALENDAR
