BEGIN:VCALENDAR
PRODID:-//eluceo/ical//2.0/EN
VERSION:2.0
CALSCALE:GREGORIAN
BEGIN:VEVENT
UID:cb299646f30f86aa1622600d385777ba
DTSTAMP:20260421T115032Z
SUMMARY:RCJam 2019
DESCRIPTION:Shaw JCC of Akron\nCalendar\nhttps://shawjcc.org/calendar/RCJam
 -2019-316502\n\nRCJam 2019\n\nSaturday\, September 7\, 6-8:30 PM\nMustard 
 Seed Highland Square Banquet Room\n\nIt's time to celebrate our members at
  RCJam 2019! Join us for delicious food\, beverages\, great prizes\, and e
 ntertainment by DJ Cadence.\n\n\nAdmission is free for current RCJ-Ticket 
 Holders\, donations encouraged\, and $10 for guests. Purchase or renew you
 r RCJ-Ticket for only $18 online before the event or at the door.\nAll fun
 ds support the Jewish Community Board of Akron (JCBA)\, which in turn fund
 s a...
DTSTART;TZID=America/New_York:20190907T180000
DTEND;TZID=America/New_York:20190907T210000
END:VEVENT
END:VCALENDAR
