BEGIN:VCALENDAR
PRODID:-//eluceo/ical//2.0/EN
VERSION:2.0
CALSCALE:GREGORIAN
BEGIN:VEVENT
UID:e753c4489853a0475475f4f04880433b
DTSTAMP:20260423T094314Z
SUMMARY:Lippman Board Meeting
DESCRIPTION:Shaw JCC of Akron\nCalendar\nhttps://shawjcc.org/calendar/Trust
 ee-meeting-2-198702\n\nBoard of Trustees meeting in JCBA Board room
DTSTART;TZID=America/New_York:20170119T174500
DTEND;TZID=America/New_York:20170119T190000
END:VEVENT
END:VCALENDAR
