BEGIN:VCALENDAR
PRODID:-//eluceo/ical//2.0/EN
VERSION:2.0
CALSCALE:GREGORIAN
BEGIN:VEVENT
UID:76e81dbe4807cc435ce7ad030b819c83
DTSTAMP:20260423T165459Z
SUMMARY:Addiction Awareness Shabbat
DESCRIPTION:Shaw JCC of Akron\nCalendar\nhttps://shawjcc.org/calendar/addic
 tion-awareness-shabbat-251734\n\nAddiction Awareness Shabbat
DTSTART;TZID=America/New_York:20180317T091500
DTEND;TZID=America/New_York:20180317T120000
END:VEVENT
END:VCALENDAR
