BEGIN:VCALENDAR
PRODID:-//eluceo/ical//2.0/EN
VERSION:2.0
CALSCALE:GREGORIAN
BEGIN:VEVENT
UID:07d90c7c71c918143380a2079621ec96
DTSTAMP:20260421T034039Z
SUMMARY:Adult American Red Cross Swim Lessons
DESCRIPTION:Shaw JCC of Akron\nCalendar\nhttps://shawjcc.org/calendar/adult
 -american-red-cross-swim-lessonsfeb2020\n\nThis class is for swimmers ages
  14+ and is a learn-at-your-own-pace class\, while gaining confidence in t
 he water. This class gives adult swimmers at every level the opportunity t
 o improve their skills in a safe environment\, under the guidance of a tra
 ined instructor while gaining confidence in the water. \n\nMon. & Wed.\, 
 Feb. 3-26\, 5-5:30 p.m.\n\nCost: $50/M $75/G\n\n603.313
DTSTART;TZID=America/New_York:20200203T183000
DTEND;TZID=America/New_York:20200203T191500
END:VEVENT
END:VCALENDAR
