BEGIN:VCALENDAR
PRODID:-//eluceo/ical//2.0/EN
VERSION:2.0
CALSCALE:GREGORIAN
BEGIN:VEVENT
UID:222ae2ad053277c7f4a6a4a37a461eb4
DTSTAMP:20260422T181311Z
SUMMARY:Adult American Red Cross Swim Lessons
DESCRIPTION:Shaw JCC of Akron\nCalendar\nhttps://shawjcc.org/calendar/adult
 -american-red-cross-swim-lessonsjanfeb\n\nThis class is for swimmers ages 
 14+ and is a learn-at-your-own-pace class\, while gaining confidence in th
 e water. This class gives adult swimmers at every level the opportunity to
  improve their skills in a safe environment\, under the guidance of a trai
 ned instructor while gaining confidence in the water. \n\nSat.\, Jan. 4-F
 eb. 22\, 9:30-10 a.m.\n\nCost: $50/M $75/G\n\n603.314
DTSTART;TZID=America/New_York:20200104T093000
DTEND;TZID=America/New_York:20200104T100000
END:VEVENT
END:VCALENDAR
