BEGIN:VCALENDAR
PRODID:-//eluceo/ical//2.0/EN
VERSION:2.0
CALSCALE:GREGORIAN
BEGIN:VEVENT
UID:dcc13f2f3982658ee55336370302904d
DTSTAMP:20260425T173731Z
SUMMARY:Advance Care Planning: Courage in Conversation
DESCRIPTION:Shaw JCC of Akron\nCalendar\nhttps://shawjcc.org/calendar/advan
 ce-care-planning-courage-in-conversation-103740\n\nReflections on End of L
 ife: Advance Care Planning: Courage in Conversation\n\nThis class is the t
 hird in a series of 4 classes. Janice Hopec of Hospice of the Western Res
 erve\, will lead the discussion on advance care planning.\n\nAdvance care 
 planning involves learning about the types of decisions that might need to
  be made\, considering those decisions ahead of time\, and then letting ot
 hers know about your preferences\, often by putting them into an advance 
 directive. An advance directive is...
DTSTART;TZID=America/New_York:20141105T180000
DTEND;TZID=America/New_York:20141105T190000
END:VEVENT
END:VCALENDAR
