BEGIN:VCALENDAR
PRODID:-//eluceo/ical//2.0/EN
VERSION:2.0
CALSCALE:GREGORIAN
BEGIN:VEVENT
UID:201987d656012c7e3b6147cb771ecf33
DTSTAMP:20260423T082320Z
SUMMARY:Akron BBYO President’s Weekend Pizza Pool Party
DESCRIPTION:Shaw JCC of Akron\nCalendar\nhttps://shawjcc.org/calendar/akron
 -bbyo-presidents-weekend-pizza-pool-party-297064\n\nSaturday\, Feb. 16\, 5
 -7:30 p.m.\n\nPresident’s Weekend Pizza Pool Party with Akron\, Canton a
 nd Youngstown. First we end Shabbat with Havdalah program\, followed by sw
 im\, games and pizza. Cost: Free with RSVP to afox@shawjcc.org.
DTSTART;TZID=America/New_York:20190216T170000
DTEND;TZID=America/New_York:20190216T193000
END:VEVENT
END:VCALENDAR
