BEGIN:VCALENDAR
PRODID:-//eluceo/ical//2.0/EN
VERSION:2.0
CALSCALE:GREGORIAN
BEGIN:VEVENT
UID:a560930c02c9528947097fb156683cbf
DTSTAMP:20260423T073429Z
SUMMARY:Akron Community Tribute Event-Honoring Sarah Greenblatt
DESCRIPTION:Shaw JCC of Akron\nCalendar\nhttps://shawjcc.org/calendar/akron
 -community-tribute-event-honoring-sarah-greenblatt-222638\n\nAkron Communi
 ty Tribute Event-Honoring Sarah Greenblatt
DTSTART;TZID=America/New_York:20170629T190000
DTEND;TZID=America/New_York:20170629T210000
END:VEVENT
END:VCALENDAR
