BEGIN:VCALENDAR
PRODID:-//eluceo/ical//2.0/EN
VERSION:2.0
CALSCALE:GREGORIAN
BEGIN:VEVENT
UID:37a1b0e20f4eb7cc6bfd472ff46e86e7
DTSTAMP:20260423T010352Z
SUMMARY:Akron Women Singing
DESCRIPTION:Shaw JCC of Akron\nCalendar\nhttps://shawjcc.org/calendar/akron
 -women-singing-1546454193-297329\n\nAkron Women Singing\nLocation to be an
 nounced\nOpen to all women and girls
DTSTART;TZID=America/New_York:20190203T190000
DTEND;TZID=America/New_York:20190203T194500
END:VEVENT
END:VCALENDAR
