BEGIN:VCALENDAR
PRODID:-//eluceo/ical//2.0/EN
VERSION:2.0
CALSCALE:GREGORIAN
BEGIN:VEVENT
UID:dfb25707e62cd659c6f74da240c381c5
DTSTAMP:20260422T160629Z
SUMMARY:Akron Women Singing
DESCRIPTION:Shaw JCC of Akron\nCalendar\nhttps://shawjcc.org/calendar/akron
 -women-singing-1546454403-297333\n\nAkron Women Singing\nLocation to be an
 nounced\nOpen to all women and girls
DTSTART;TZID=America/New_York:20190505T190000
DTEND;TZID=America/New_York:20190505T204500
END:VEVENT
END:VCALENDAR
