BEGIN:VCALENDAR
PRODID:-//eluceo/ical//2.0/EN
VERSION:2.0
CALSCALE:GREGORIAN
BEGIN:VEVENT
UID:f4947598c71b15fe50f1c6b849d0260f
DTSTAMP:20260422T131849Z
SUMMARY:Allison Bender Bat Mitzvah
DESCRIPTION:Shaw JCC of Akron\nCalendar\nhttps://shawjcc.org/calendar/allis
 on-bender-bat-mitzvah-177167\n\nAllison's Bat Mitzvah
DTSTART;TZID=America/New_York:20180414T103000
DTEND;TZID=America/New_York:20180414T120000
END:VEVENT
END:VCALENDAR
