BEGIN:VCALENDAR
PRODID:-//eluceo/ical//2.0/EN
VERSION:2.0
CALSCALE:GREGORIAN
BEGIN:VEVENT
UID:18b349e8ff05433c62e9d4cb12c726a9
DTSTAMP:20260423T151217Z
SUMMARY:Annual Anshe Sfard Spaghetti Dinner
DESCRIPTION:Shaw JCC of Akron\nCalendar\nhttps://shawjcc.org/calendar/annua
 l-anshe-sfard-spaghetti-dinner-1561567054-315849\n\nAnnual Spaghetti Dinne
 r and Raffle
DTSTART;TZID=America/New_York:20191110T170000
DTEND;TZID=America/New_York:20191110T190000
END:VEVENT
END:VCALENDAR
