BEGIN:VCALENDAR
PRODID:-//eluceo/ical//2.0/EN
VERSION:2.0
CALSCALE:GREGORIAN
BEGIN:VEVENT
UID:78598cdc0ad6472812189c0a97b49f3a
DTSTAMP:20260422T063907Z
SUMMARY:Annual Breakfast Raffle at Anshe Sfard
DESCRIPTION:Shaw JCC of Akron\nCalendar\nhttps://shawjcc.org/calendar/annua
 l-breakfast-raffle-at-anshe-sfard-1603725669-366510\n\nAnnual Breakfast Ra
 ffle
DTSTART;TZID=America/New_York:20201115T103000
DTEND;TZID=America/New_York:20201115T123000
END:VEVENT
END:VCALENDAR
