BEGIN:VCALENDAR
PRODID:-//eluceo/ical//2.0/EN
VERSION:2.0
CALSCALE:GREGORIAN
BEGIN:VEVENT
UID:4216ed866bc5af27656981d60d6f83aa
DTSTAMP:20260422T011039Z
SUMMARY:Spaghetti Dinner at Anshe Sfard
DESCRIPTION:Shaw JCC of Akron\nCalendar\nhttps://shawjcc.org/calendar/annua
 l-spaghetti-dinner-1663162871-417844\n\nCommunity Spaghetti Dinner
DTSTART;TZID=America/New_York:20221030T173000
DTEND;TZID=America/New_York:20221030T193000
END:VEVENT
END:VCALENDAR
