BEGIN:VCALENDAR
PRODID:-//eluceo/ical//2.0/EN
VERSION:2.0
CALSCALE:GREGORIAN
BEGIN:VEVENT
UID:ab161296a0e90a716cfb869779aa4bb8
DTSTAMP:20260420T101310Z
SUMMARY:Anshe sfard Torah Dedication
DESCRIPTION:Shaw JCC of Akron\nCalendar\nhttps://shawjcc.org/calendar/anshe
 -sfard-torah-dedication-1678367262-433513\n\nNew Torah Dedication Communit
 y Event
DTSTART;TZID=America/New_York:20230611T110000
DTEND;TZID=America/New_York:20230611T140000
END:VEVENT
END:VCALENDAR
