BEGIN:VCALENDAR
PRODID:-//eluceo/ical//2.0/EN
VERSION:2.0
CALSCALE:GREGORIAN
BEGIN:VEVENT
UID:d0e692ffcfa6de46f621b45b110464c5
DTSTAMP:20260422T021337Z
SUMMARY:Antisemitism Panel Discussion
DESCRIPTION:Shaw JCC of Akron\nCalendar\nhttps://shawjcc.org/calendar/antis
 emitism-panel-discussion-1757084534-499911\n\nAntisemitism Panel Discussio
 n
DTSTART;TZID=America/New_York:20251112T190000
DTEND;TZID=America/New_York:20251112T203000
END:VEVENT
END:VCALENDAR
