BEGIN:VCALENDAR
PRODID:-//eluceo/ical//2.0/EN
VERSION:2.0
CALSCALE:GREGORIAN
BEGIN:VEVENT
UID:e86f563477837b25d7d340359d0e4982
DTSTAMP:20260423T082146Z
SUMMARY:Art Fridays
DESCRIPTION:Shaw JCC of Akron\nCalendar\nhttps://shawjcc.org/calendar/art-f
 ridays-1549481911-301142\n\nJoin us at nearby Graf Growers (1015 White Pon
 d Dr.) for a succulent garden workshop. Buy a bowl there\, or bring one fr
 om home and create your very own garden in one of the greenhouses. Please 
 RSVP to Julie LeFever at jlefever@ shawjcc.org by Mar. 6 to ensure we have
  enough supplies. Cost $10 plus the cost of your succulent choices (and bo
 wl should you decide to purchase one there).
DTSTART;TZID=America/New_York:20190308T103000
DTEND;TZID=America/New_York:20190308T120000
END:VEVENT
END:VCALENDAR
