BEGIN:VCALENDAR
PRODID:-//eluceo/ical//2.0/EN
VERSION:2.0
CALSCALE:GREGORIAN
BEGIN:VEVENT
UID:8492496806f1c8c84c4ab97b2fa91fed
DTSTAMP:20260421T113052Z
SUMMARY:Temple Israel's Sisterhood Program on Reproductive Rights
DESCRIPTION:Shaw JCC of Akron\nCalendar\nhttps://shawjcc.org/calendar/assau
 lt-on-womens-reproductive-rights-1567604538-324311\n\nHosted by Temple Isr
 ael Sisterhood\, this program will include a speaker from Planned Parentho
 od\, as well as testimony from someone who utilizes their services.
DTSTART;TZID=America/New_York:20191205T190000
DTEND;TZID=America/New_York:20191205T210000
END:VEVENT
END:VCALENDAR
