BEGIN:VCALENDAR
PRODID:-//eluceo/ical//2.0/EN
VERSION:2.0
CALSCALE:GREGORIAN
BEGIN:VEVENT
UID:61ff7011b441292386ee174f40ec5671
DTSTAMP:20260423T015200Z
SUMMARY:Author Sima Goel: Fleeing the Hijab event
DESCRIPTION:Shaw JCC of Akron\nCalendar\nhttps://shawjcc.org/calendar/autho
 r-sima-goel-fleeing-the-hijab-event-1553523871-305699\n\nAuthor and inspir
 ational speaker Iranian-born Dr. Sima Goel will share her story of escape\
 , courage\, and freedom on Tuesday\, Oct. 29 at 7:00 p.m. in a free\, c
 ommunity-wide presentation on the Schultz Campus for Jewish Life.\n\nHer j
 ourney began at age thirteen when she spontaneously defended a Baha’i cl
 assmate against a schoolyard bully. This act triggered events that would e
 ventually take her into danger and far from her beloved homeland. \n\nFol
 lowing the 1979 Iranian Revolution\, ever...
DTSTART;TZID=America/New_York:20191029T190000
DTEND;TZID=America/New_York:20191029T210000
END:VEVENT
END:VCALENDAR
