BEGIN:VCALENDAR
PRODID:-//eluceo/ical//2.0/EN
VERSION:2.0
CALSCALE:GREGORIAN
BEGIN:VEVENT
UID:e249320e5b696d87b63badb842722b47
DTSTAMP:20260421T121217Z
SUMMARY:Babies\, Bagels\, & Blessings!
DESCRIPTION:Shaw JCC of Akron\nCalendar\nhttps://shawjcc.org/calendar/babie
 s-bagels--blessings-1573053852-333539\n\nA morning to bless all of the new
  babies in our community that have been born since January 2019! Join us f
 or a special blessing and welcome with young families\, followed by bagels
 \, schmooze\, and Mini Minyan!
DTSTART;TZID=America/New_York:20200201T094500
DTEND;TZID=America/New_York:20200201T111500
END:VEVENT
END:VCALENDAR
