BEGIN:VCALENDAR
PRODID:-//eluceo/ical//2.0/EN
VERSION:2.0
CALSCALE:GREGORIAN
BEGIN:VEVENT
UID:d3fd76a4bb7feca81259a3e67f29de3c
DTSTAMP:20260425T200126Z
SUMMARY:Baby & Me American Red Cross Swim Lessons
DESCRIPTION:Shaw JCC of Akron\nCalendar\nhttps://shawjcc.org/calendar/baby-
 me-american-red-cross-swim-lessons2020\n\nThis American Red Cross IPAP pro
 gram provides guidance on how to hold your child in the water and develop 
 basic swimming skills\, while building a positive parent-child relationshi
 p in the water. Parents are required to be in the water for the class\, an
 d children must be at least six months old to enroll. Children not toilet-
 trained are required to wear a swim diaper.  \n\nTogether\, we will teac
 h your child:\n\n\nKicking\nBlowing bubbles\nWater safety\nFloating\nArm s
 trokes\n\n\nMon. & ...
DTSTART;TZID=America/New_York:20201026T170000
DTEND;TZID=America/New_York:20201026T173000
END:VEVENT
END:VCALENDAR
