BEGIN:VCALENDAR
PRODID:-//eluceo/ical//2.0/EN
VERSION:2.0
CALSCALE:GREGORIAN
BEGIN:VEVENT
UID:5e40ab81219658ebf5c2c206b0e6ca20
DTSTAMP:20260420T152840Z
SUMMARY:Baby & Me American Red Cross Swim Lessons
DESCRIPTION:Shaw JCC of Akron\nCalendar\nhttps://shawjcc.org/calendar/baby-
 me-american-red-cross-swim-lessonsapril2021\n\nThis American Red Cross IPA
 P program provides guidance on how to hold your child in the water and dev
 elop basic swimming skills\, while building a positive parent-child relati
 onship in the water. Parents are required to be in the water for the class
 \, and children must be at least six months old to enroll. Children not to
 ilet-trained are required to wear a swim diaper. \n\nTogether\, we will t
 each your child: \n\nKicking\n\nBlowing bubbles\n\nWater safety\n\nFloati
 ng \n\nArm strokes\n\nMon. &...
DTSTART;TZID=America/New_York:20210426T163000
DTEND;TZID=America/New_York:20210426T170000
END:VEVENT
END:VCALENDAR
