BEGIN:VCALENDAR
PRODID:-//eluceo/ical//2.0/EN
VERSION:2.0
CALSCALE:GREGORIAN
BEGIN:VEVENT
UID:21ea7536f37e5ffa522c3a9dee4f3608
DTSTAMP:20260422T175049Z
SUMMARY:Baby & Me American Red Cross Swim Lessons
DESCRIPTION:Shaw JCC of Akron\nCalendar\nhttps://shawjcc.org/calendar/baby-
 me-american-red-cross-swim-lessonssatjan2020\n\nThis American Red Cross IP
 AP program provides guidance on how to hold your child in the water and de
 velop basic swimming skills\, while building a positive parent-child relat
 ionship in the water. Parents are required to be in the water for the clas
 s\, and children must be at least six months old to enroll. Children not t
 oilet-trained are required to wear a swim diaper. \n\nTogether\, we will 
 teach your child:\n\n\nKicking\n Blowing bubbles\nWater safety\nFloating\
 nArm strokes\n\n\nSat. Ja...
DTSTART;TZID=America/New_York:20200104T093000
DTEND;TZID=America/New_York:20200104T100000
END:VEVENT
END:VCALENDAR
