BEGIN:VCALENDAR
PRODID:-//eluceo/ical//2.0/EN
VERSION:2.0
CALSCALE:GREGORIAN
BEGIN:VEVENT
UID:c5718556ae597c45cacf898ac70c31cc
DTSTAMP:20260420T134812Z
SUMMARY:Bar Mitzvah of Daniel Thuestad
DESCRIPTION:Shaw JCC of Akron\nCalendar\nhttps://shawjcc.org/calendar/bar-m
 itzvah-of-daniel-thuestad-1689774364-443405\n\nBar Mitzvah at Anshe Sfard
DTSTART;TZID=America/New_York:20231014T100000
DTEND;TZID=America/New_York:20231014T130000
END:VEVENT
END:VCALENDAR
