BEGIN:VCALENDAR
PRODID:-//eluceo/ical//2.0/EN
VERSION:2.0
CALSCALE:GREGORIAN
BEGIN:VEVENT
UID:50976c08c5023e790605f1fd848e7db7
DTSTAMP:20260422T044559Z
SUMMARY:Barnes and Noble Book Fair for The Lippman School
DESCRIPTION:Shaw JCC of Akron\nCalendar\nhttps://shawjcc.org/calendar/barne
 s-and-noble-book-fair-for-the-lippman-school-254828\n\nPlease join us on S
 unday\, December 10 at Barnes and Noble in Montrose for fun activities wit
 h The Lippman students.\n\nSunday\, December 10\, 2017 at 12:00 - 4:00 pm.
 \n\n 
DTSTART;TZID=America/New_York:20171210T120000
DTEND;TZID=America/New_York:20171210T160000
END:VEVENT
END:VCALENDAR
