BEGIN:VCALENDAR
PRODID:-//eluceo/ical//2.0/EN
VERSION:2.0
CALSCALE:GREGORIAN
BEGIN:VEVENT
UID:b18943d924ec314c32b1c7ad1e15353b
DTSTAMP:20260424T023005Z
SUMMARY:Bat Mitzvah of N.Beree
DESCRIPTION:Shaw JCC of Akron\nCalendar\nhttps://shawjcc.org/calendar/bat-m
 itzvah-of-nberee-322052\n\nBat Mitzvah
DTSTART;TZID=America/New_York:20200905T090000
DTEND;TZID=America/New_York:20200905T140000
END:VEVENT
END:VCALENDAR
