BEGIN:VCALENDAR
PRODID:-//eluceo/ical//2.0/EN
VERSION:2.0
CALSCALE:GREGORIAN
BEGIN:VEVENT
UID:3dfcb5041cc9b395420996245fc1b76f
DTSTAMP:20260425T181251Z
SUMMARY:Bat Mitzvah of SonjaRoy
DESCRIPTION:Shaw JCC of Akron\nCalendar\nhttps://shawjcc.org/calendar/bat-m
 itzvah-of-sonjaroy-1483975526-218452\n\nBat Mitvah at Anshe Sfard
DTSTART;TZID=America/New_York:20170604T090000
DTEND;TZID=America/New_York:20170604T130000
END:VEVENT
END:VCALENDAR
