BEGIN:VCALENDAR
PRODID:-//eluceo/ical//2.0/EN
VERSION:2.0
CALSCALE:GREGORIAN
BEGIN:VEVENT
UID:439044251de9864a10db4d8ef808e575
DTSTAMP:20260421T113022Z
SUMMARY:BBYO Hanukkah Party
DESCRIPTION:Shaw JCC of Akron\nCalendar\nhttps://shawjcc.org/calendar/bbyo-
 hanukkah-party-1511923215-254695\n\nCelebrate Hanukkah with BBYO and give 
 a special gift to someone who's parents cannot afford to give holiday gift
 s.
DTSTART;TZID=America/New_York:20171217T140000
DTEND;TZID=America/New_York:20171217T160000
END:VEVENT
END:VCALENDAR
