BEGIN:VCALENDAR
PRODID:-//eluceo/ical//2.0/EN
VERSION:2.0
CALSCALE:GREGORIAN
BEGIN:VEVENT
UID:307e9b7c1e51dc4a916aebb5eaabde1f
DTSTAMP:20260424T023527Z
SUMMARY:BBYO Youngstown Pool Party
DESCRIPTION:Shaw JCC of Akron\nCalendar\nhttps://shawjcc.org/calendar/bbyo-
 youngstown-pool-party-1511922200-254693\n\nTransportation is provided FREE
  from the Akron JCC.
DTSTART;TZID=America/New_York:20171202T172000
DTEND;TZID=America/New_York:20171202T220000
END:VEVENT
END:VCALENDAR
