BEGIN:VCALENDAR
PRODID:-//eluceo/ical//2.0/EN
VERSION:2.0
CALSCALE:GREGORIAN
BEGIN:VEVENT
UID:75d64b444f8bc1f1eac3c6409b6cfd38
DTSTAMP:20260423T003510Z
SUMMARY:JCBA BOARD
DESCRIPTION:Shaw JCC of Akron\nCalendar\nhttps://shawjcc.org/calendar/bd-mt
 g-jcba-198864\n\nMeeting
DTSTART;TZID=America/New_York:20170425T190000
DTEND;TZID=America/New_York:20170425T200000
END:VEVENT
END:VCALENDAR
