BEGIN:VCALENDAR
PRODID:-//eluceo/ical//2.0/EN
VERSION:2.0
CALSCALE:GREGORIAN
BEGIN:VEVENT
UID:02f5e38262c7caff18ae611f7c3bcb51
DTSTAMP:20260425T185131Z
SUMMARY:Beth El 37th Annual Raffle
DESCRIPTION:Shaw JCC of Akron\nCalendar\nhttps://shawjcc.org/calendar/beth-
 el-37th-annual-raffle-221514\n\nBeth El's 37th Annual Raffle and Brunch!
DTSTART;TZID=America/New_York:20180204T113000
DTEND;TZID=America/New_York:20180204T140000
END:VEVENT
END:VCALENDAR
