BEGIN:VCALENDAR
PRODID:-//eluceo/ical//2.0/EN
VERSION:2.0
CALSCALE:GREGORIAN
BEGIN:VEVENT
UID:fbb052f106619f04c934938db0989441
DTSTAMP:20260424T040439Z
SUMMARY:Beth El Adult Ed
DESCRIPTION:Shaw JCC of Akron\nCalendar\nhttps://shawjcc.org/calendar/beth-
 el-adult-ed-feb-211262\n\nBeth El Adult Ed with Rabbi Spitzer
DTSTART;TZID=America/New_York:20170226T093000
DTEND;TZID=America/New_York:20170226T113000
END:VEVENT
END:VCALENDAR
