BEGIN:VCALENDAR
PRODID:-//eluceo/ical//2.0/EN
VERSION:2.0
CALSCALE:GREGORIAN
BEGIN:VEVENT
UID:0af4c4f22aa9166c2e820401e52ee120
DTSTAMP:20260422T211551Z
SUMMARY:Beth El Adult Education
DESCRIPTION:Shaw JCC of Akron\nCalendar\nhttps://shawjcc.org/calendar/beth-
 el-adult-education-211235\n\nBeth El Adult Education morning with Rabbi Jo
 an Friedman
DTSTART;TZID=America/New_York:20170129T093000
DTEND;TZID=America/New_York:20170129T113000
END:VEVENT
END:VCALENDAR
