BEGIN:VCALENDAR
PRODID:-//eluceo/ical//2.0/EN
VERSION:2.0
CALSCALE:GREGORIAN
BEGIN:VEVENT
UID:078bcf86dc3596ea83decac5f98129d5
DTSTAMP:20260422T192110Z
SUMMARY:Beth El Annual Raffle
DESCRIPTION:Shaw JCC of Akron\nCalendar\nhttps://shawjcc.org/calendar/beth-
 el-annual-raffle-1668698556-422025\n\nBeth El Annual Raffle
DTSTART;TZID=America/New_York:20230430T100000
DTEND;TZID=America/New_York:20230430T140000
END:VEVENT
END:VCALENDAR
