BEGIN:VCALENDAR
PRODID:-//eluceo/ical//2.0/EN
VERSION:2.0
CALSCALE:GREGORIAN
BEGIN:VEVENT
UID:d3ea61a4a80c0885ab722ca6678781a5
DTSTAMP:20260420T101229Z
SUMMARY:Beth El Board Meeting
DESCRIPTION:Shaw JCC of Akron\nCalendar\nhttps://shawjcc.org/calendar/beth-
 el-board-meeting-Aug-473305\n\nBoard Meeting
DTSTART;TZID=America/New_York:20240806T190000
DTEND;TZID=America/New_York:20240806T200000
END:VEVENT
END:VCALENDAR
