BEGIN:VCALENDAR
PRODID:-//eluceo/ical//2.0/EN
VERSION:2.0
CALSCALE:GREGORIAN
BEGIN:VEVENT
UID:cb65654e0504fcedaf35a69fe3dad8c3
DTSTAMP:20260422T171712Z
SUMMARY:Beth El Board Meeting
DESCRIPTION:Shaw JCC of Akron\nCalendar\nhttps://shawjcc.org/calendar/beth-
 el-board-meeting-jan-473308\n\nBoard Meeting
DTSTART;TZID=America/New_York:20250114T190000
DTEND;TZID=America/New_York:20250114T200000
END:VEVENT
END:VCALENDAR
