BEGIN:VCALENDAR
PRODID:-//eluceo/ical//2.0/EN
VERSION:2.0
CALSCALE:GREGORIAN
BEGIN:VEVENT
UID:a814d1b14827e100cf75a2f3f570e818
DTSTAMP:20260420T165836Z
SUMMARY:Beth El Board Meeting
DESCRIPTION:Shaw JCC of Akron\nCalendar\nhttps://shawjcc.org/calendar/beth-
 el-board-meeting-june-473359\n\nBoard Meeting
DTSTART;TZID=America/New_York:20250617T190000
DTEND;TZID=America/New_York:20250617T200000
END:VEVENT
END:VCALENDAR
