BEGIN:VCALENDAR
PRODID:-//eluceo/ical//2.0/EN
VERSION:2.0
CALSCALE:GREGORIAN
BEGIN:VEVENT
UID:5b734f8b75bc644a5ce9a3619ae3dbb2
DTSTAMP:20260422T021511Z
SUMMARY:Beth El Honoree Event
DESCRIPTION:Shaw JCC of Akron\nCalendar\nhttps://shawjcc.org/calendar/beth-
 el-honoree-event-1722883755-473492\n\nBeth El Honoree Event/Fundraiser
DTSTART;TZID=America/New_York:20250611T180000
DTEND;TZID=America/New_York:20250611T210000
END:VEVENT
END:VCALENDAR
