BEGIN:VCALENDAR
PRODID:-//eluceo/ical//2.0/EN
VERSION:2.0
CALSCALE:GREGORIAN
BEGIN:VEVENT
UID:49255eea5c03e92a2ef6e73c7ea4e14f
DTSTAMP:20260422T040922Z
SUMMARY:Beth El Purim Party
DESCRIPTION:Shaw JCC of Akron\nCalendar\nhttps://shawjcc.org/calendar/beth-
 el-purim-party-175896\n\nBeth El Purim Celebration\n\n 
DTSTART;TZID=America/New_York:20170311T183000
DTEND;TZID=America/New_York:20170311T230000
END:VEVENT
END:VCALENDAR
